BEGIN:VCALENDAR
VERSION:2.0
PRODID:-//Jackson Hole Land Trust - ECPv6.15.20//NONSGML v1.0//EN
CALSCALE:GREGORIAN
METHOD:PUBLISH
X-WR-CALNAME:Jackson Hole Land Trust
X-ORIGINAL-URL:https://jhlandtrust.org
X-WR-CALDESC:Events for Jackson Hole Land Trust
REFRESH-INTERVAL;VALUE=DURATION:PT1H
X-Robots-Tag:noindex
X-PUBLISHED-TTL:PT1H
BEGIN:VTIMEZONE
TZID:America/Denver
BEGIN:DAYLIGHT
TZOFFSETFROM:-0700
TZOFFSETTO:-0600
TZNAME:MDT
DTSTART:20230312T090000
END:DAYLIGHT
BEGIN:STANDARD
TZOFFSETFROM:-0600
TZOFFSETTO:-0700
TZNAME:MST
DTSTART:20231105T080000
END:STANDARD
BEGIN:DAYLIGHT
TZOFFSETFROM:-0700
TZOFFSETTO:-0600
TZNAME:MDT
DTSTART:20240310T090000
END:DAYLIGHT
BEGIN:STANDARD
TZOFFSETFROM:-0600
TZOFFSETTO:-0700
TZNAME:MST
DTSTART:20241103T080000
END:STANDARD
BEGIN:DAYLIGHT
TZOFFSETFROM:-0700
TZOFFSETTO:-0600
TZNAME:MDT
DTSTART:20250309T090000
END:DAYLIGHT
BEGIN:STANDARD
TZOFFSETFROM:-0600
TZOFFSETTO:-0700
TZNAME:MST
DTSTART:20251102T080000
END:STANDARD
END:VTIMEZONE
BEGIN:VEVENT
DTSTART;TZID=America/Denver:20240325T080000
DTEND;TZID=America/Denver:20240408T170000
DTSTAMP:20260419T192654
CREATED:20230307T221836Z
LAST-MODIFIED:20240403T170408Z
UID:539-1711353600-1712595600@jhlandtrust.org
SUMMARY:R Park Egg Hunt
DESCRIPTION:Enjoy a family-friendly egg-themed scavenger hunt at R Park! The scavenger hunt is FREE\, self-guided\, and open to all during daylight hours at R Park. Beginning March 25\, four egg-themed art pieces created by local artists will be hidden around R Park and marked with a secret letter. Find all four eggs to reveal a four-letter code that unlocks a golden chest on the steps of the R Park office. Candy prizes await! \nR Park Egg Hunt map in Spanish. \nR Park Egg Hunt map in English. \nMaps will also be available at the R Park office. \nThank you to our egg-squisite local artists: Charlie Daveler\, Shannon Hart\, Elyse Mock\, and Sammie Smith’s Fab Lab! Supported in part by a grant from the Wyoming Arts Council\, with support from the National Endowment for the Arts and the Wyoming Legislature.
URL:https://jhlandtrust.org/events/r-park-easter-egg-hunt
LOCATION:R Park\, 4270 River Springs Drive\, Wilson\, WY\, 83014\, United States
CATEGORIES:Jackson Hole,R Park
ATTACH;FMTTYPE=image/jpeg:https://jhlandtrust.org/wp-content/uploads/2023/03/Zach-Andres_Easter-webres-2871.jpg
END:VEVENT
END:VCALENDAR